BEGIN:VCALENDAR
METHOD:REQUEST
PRODID:-//events.orgNONSGML ical.net 4.0//EN
VERSION:2.0
BEGIN:VEVENT
DTEND;VALUE=DATE:20260516
DTSTAMP:20260422T083707Z
DTSTART;VALUE=DATE:20260516
LOCATION:Level1 - Seattle\, Seattle
ORGANIZER;CN=:mailto:events@events.org
SEQUENCE:0
SUMMARY:James Hype
UID:62fe8ba5-1221-4475-be45-3c8dd4012783
URL:https://events.org/e/James-Hype/UAPOUXWO
BEGIN:VALARM
ACTION:DISPLAY
SUMMARY:Reminder
TRIGGER:-P1D
END:VALARM
END:VEVENT
END:VCALENDAR
