BEGIN:VCALENDAR
METHOD:REQUEST
PRODID:-//events.orgNONSGML ical.net 4.0//EN
VERSION:2.0
BEGIN:VEVENT
DTEND;VALUE=DATE:20260725
DTSTAMP:20260422T090405Z
DTSTART;VALUE=DATE:20260725
LOCATION:Pub 529\, Houston
ORGANIZER;CN=:mailto:events@events.org
SEQUENCE:0
SUMMARY:Extreme Dwarfanator Wrestling
UID:3defb7e2-21a7-4447-9fbc-ffdd95a0eedf
URL:https://events.org/e/Extreme-Dwarfanator-Wrestling/OBSBHPVE
BEGIN:VALARM
ACTION:DISPLAY
SUMMARY:Reminder
TRIGGER:-P1D
END:VALARM
END:VEVENT
END:VCALENDAR
