BEGIN:VCALENDAR
METHOD:REQUEST
PRODID:-//events.orgNONSGML ical.net 4.0//EN
VERSION:2.0
BEGIN:VEVENT
DTEND;VALUE=DATE:20260612
DTSTAMP:20260421T094119Z
DTSTART;VALUE=DATE:20260612
LOCATION:Hobby Center\, Houston
ORGANIZER;CN=:mailto:events@events.org
SEQUENCE:0
SUMMARY:Clue (Touring)
UID:5727d502-45c7-4b46-8ef3-ffdc1a059691
URL:https://events.org/e/Clue-Touring/RTDU9KS5
BEGIN:VALARM
ACTION:DISPLAY
SUMMARY:Reminder
TRIGGER:-P1D
END:VALARM
END:VEVENT
END:VCALENDAR
