BEGIN:VCALENDAR
METHOD:REQUEST
PRODID:-//events.orgNONSGML ical.net 4.0//EN
VERSION:2.0
BEGIN:VEVENT
DTEND;VALUE=DATE:20260604
DTSTAMP:20260423T134715Z
DTSTART;VALUE=DATE:20260604
LOCATION:The Masquerade - Hell\, Atlanta
ORGANIZER;CN=:mailto:events@events.org
SEQUENCE:0
SUMMARY:The Black Queen: Fever Daydream 10 Year Anniversary
UID:24777055-353c-4ba6-b2dc-b69f592fbe79
URL:https://events.org/e/The-Black-Queen-Fever-Daydream-10-Year-Anniversar
 y/7H95XDXP
BEGIN:VALARM
ACTION:DISPLAY
SUMMARY:Reminder
TRIGGER:-P1D
END:VALARM
END:VEVENT
END:VCALENDAR
