BEGIN:VCALENDAR
METHOD:REQUEST
PRODID:-//events.orgNONSGML ical.net 4.0//EN
VERSION:2.0
BEGIN:VEVENT
DTEND;VALUE=DATE:20260702
DTSTAMP:20260422T084001Z
DTSTART;VALUE=DATE:20260702
LOCATION:Tractor\, Seattle
ORGANIZER;CN=:mailto:events@events.org
SEQUENCE:0
SUMMARY:Uncle Lucius 20th Anniversary Tour w/ guests
UID:02181785-d820-403e-958d-4cdbe452926b
URL:https://events.org/e/Uncle-Lucius-20th-Anniversary-Tour-w-guests/2GLI4
 5DM
BEGIN:VALARM
ACTION:DISPLAY
SUMMARY:Reminder
TRIGGER:-P1D
END:VALARM
END:VEVENT
END:VCALENDAR
