BEGIN:VCALENDAR
METHOD:REQUEST
PRODID:-//events.orgNONSGML ical.net 4.0//EN
VERSION:2.0
BEGIN:VEVENT
DTEND;VALUE=DATE:20260506
DTSTAMP:20260421T095717Z
DTSTART;VALUE=DATE:20260506
LOCATION:The United Theater on Broadway\, Los Angeles
ORGANIZER;CN=:mailto:events@events.org
SEQUENCE:0
SUMMARY:ShxtsNGigs w/ Netflix Is A Joke: The Festival
UID:244db304-59fb-4b11-90bc-923dcc26d8e5
URL:https://events.org/e/ShxtsNGigs-w-Netflix-Is-A-Joke-The-Festival/HWUT8
 2VE
BEGIN:VALARM
ACTION:DISPLAY
SUMMARY:Reminder
TRIGGER:-P1D
END:VALARM
END:VEVENT
END:VCALENDAR
