BEGIN:VCALENDAR
METHOD:REQUEST
PRODID:-//events.orgNONSGML ical.net 4.0//EN
VERSION:2.0
BEGIN:VEVENT
DTEND;VALUE=DATE:20261120
DTSTAMP:20260424T092210Z
DTSTART;VALUE=DATE:20261120
LOCATION:The Anthem\, Washington
ORGANIZER;CN=:mailto:events@events.org
SEQUENCE:0
SUMMARY:Palace - USA & Canada Tour
UID:40178d7e-8908-48d9-8b71-bfd497e5ffcc
URL:https://events.org/e/Palace---USA-Canada-Tour/LTIY5CC6
BEGIN:VALARM
ACTION:DISPLAY
SUMMARY:Reminder
TRIGGER:-P1D
END:VALARM
END:VEVENT
END:VCALENDAR
