BEGIN:VCALENDAR
METHOD:REQUEST
PRODID:-//events.orgNONSGML ical.net 4.0//EN
VERSION:2.0
BEGIN:VEVENT
DTEND;VALUE=DATE:20261014
DTSTAMP:20260422T090238Z
DTSTART;VALUE=DATE:20261014
LOCATION:Crescent Ballroom\, Phoenix
ORGANIZER;CN=:mailto:events@events.org
SEQUENCE:0
SUMMARY:DEER TICK
UID:e2faa8ad-152b-4846-9c3e-7395380e3502
URL:https://events.org/e/DEER-TICK/JDT4ATOS
BEGIN:VALARM
ACTION:DISPLAY
SUMMARY:Reminder
TRIGGER:-P1D
END:VALARM
END:VEVENT
END:VCALENDAR
