BEGIN:VCALENDAR
METHOD:REQUEST
PRODID:-//events.orgNONSGML ical.net 4.0//EN
VERSION:2.0
BEGIN:VEVENT
DTEND;VALUE=DATE:20261122
DTSTAMP:20260422T084411Z
DTSTART;VALUE=DATE:20261122
LOCATION:9:30 CLUB\, Washington
ORGANIZER;CN=:mailto:events@events.org
SEQUENCE:0
SUMMARY:They Might Be Giants
UID:afc8d536-8bf5-49cf-8ff3-6bf46ec69892
URL:https://events.org/e/They-Might-Be-Giants/LODE7A3I
BEGIN:VALARM
ACTION:DISPLAY
SUMMARY:Reminder
TRIGGER:-P1D
END:VALARM
END:VEVENT
END:VCALENDAR
