BEGIN:VCALENDAR
METHOD:REQUEST
PRODID:-//events.orgNONSGML ical.net 4.0//EN
VERSION:2.0
BEGIN:VEVENT
DTEND;VALUE=DATE:20260630
DTSTAMP:20260424T080846Z
DTSTART;VALUE=DATE:20260630
LOCATION:Theatre of Living Arts\, Philadelphia
ORGANIZER;CN=:mailto:events@events.org
SEQUENCE:0
SUMMARY:Corbyn Besson and Soulidified: The Pop'n Out Tour
UID:39505da5-483a-4d07-845e-13d5f85171fd
URL:https://events.org/e/Corbyn-Besson-and-Soulidified-The-Popn-Out-Tour/3
 TE3ASFF
BEGIN:VALARM
ACTION:DISPLAY
SUMMARY:Reminder
TRIGGER:-P1D
END:VALARM
END:VEVENT
END:VCALENDAR
