BEGIN:VCALENDAR
METHOD:REQUEST
PRODID:-//events.orgNONSGML ical.net 4.0//EN
VERSION:2.0
BEGIN:VEVENT
DTEND;VALUE=DATE:20260627
DTSTAMP:20260422T090809Z
DTSTART;VALUE=DATE:20260627
LOCATION:Tractor\, Seattle
ORGANIZER;CN=:mailto:events@events.org
SEQUENCE:0
SUMMARY:Honky Tonk Matinee With Summer Dean!
UID:5467dbfb-9e60-4bc8-b74e-c9d8e9570222
URL:https://events.org/e/Honky-Tonk-Matinee-With-Summer-Dean/XVPQ529V
BEGIN:VALARM
ACTION:DISPLAY
SUMMARY:Reminder
TRIGGER:-P1D
END:VALARM
END:VEVENT
END:VCALENDAR
