BEGIN:VCALENDAR
METHOD:REQUEST
PRODID:-//events.orgNONSGML ical.net 4.0//EN
VERSION:2.0
BEGIN:VEVENT
DTEND;VALUE=DATE:20260423
DTSTAMP:20260421T103813Z
DTSTART;VALUE=DATE:20260423
LOCATION:Brick and Mortar Music Hall\, San Francisco
ORGANIZER;CN=:mailto:events@events.org
SEQUENCE:0
SUMMARY:An Evening at Brick & Mortar 🎶 (San Francisco\, CA)
UID:aa827372-dc19-462a-8a94-d6c799e8cfe7
URL:https://events.org/e/An-Evening-at-Brick-Mortar-San-Francisco-CA/484W2
 UFY
BEGIN:VALARM
ACTION:DISPLAY
SUMMARY:Reminder
TRIGGER:-P1D
END:VALARM
END:VEVENT
END:VCALENDAR
