BEGIN:VCALENDAR
METHOD:REQUEST
PRODID:-//events.orgNONSGML ical.net 4.0//EN
VERSION:2.0
BEGIN:VEVENT
DTEND;VALUE=DATE:20260427
DTSTAMP:20260424T080630Z
DTSTART;VALUE=DATE:20260427
LOCATION:Daryl Roth Theatre\, New York
ORGANIZER;CN=:mailto:events@events.org
SEQUENCE:0
SUMMARY:Mexodus
UID:d4b53cb9-61a2-4cdc-baab-220bd767b775
URL:https://events.org/e/Mexodus/5D2VACSV
BEGIN:VALARM
ACTION:DISPLAY
SUMMARY:Reminder
TRIGGER:-P1D
END:VALARM
END:VEVENT
END:VCALENDAR
