BEGIN:VCALENDAR
METHOD:REQUEST
PRODID:-//events.orgNONSGML ical.net 4.0//EN
VERSION:2.0
BEGIN:VEVENT
DTEND;VALUE=DATE:20260426
DTSTAMP:20260421T095343Z
DTSTART;VALUE=DATE:20260426
LOCATION:Carol's Pub\, Chicago
ORGANIZER;CN=:mailto:events@events.org
SEQUENCE:0
SUMMARY:St. Jams Charity Concert Benefiting Common Pantry
UID:fb68c03d-5216-4aa0-bd7c-b407b316dfb2
URL:https://events.org/e/St-Jams-Charity-Concert-Benefiting-Common-Pantry/
 RP72O6X5
BEGIN:VALARM
ACTION:DISPLAY
SUMMARY:Reminder
TRIGGER:-P1D
END:VALARM
END:VEVENT
END:VCALENDAR
