BEGIN:VCALENDAR
METHOD:REQUEST
PRODID:-//events.orgNONSGML ical.net 4.0//EN
VERSION:2.0
BEGIN:VEVENT
DTEND;VALUE=DATE:20260623
DTSTAMP:20260421T094414Z
DTSTART;VALUE=DATE:20260623
LOCATION:Arizona Financial Theatre\, Phoenix
ORGANIZER;CN=:mailto:events@events.org
SEQUENCE:0
SUMMARY:Bob Dylan
UID:2efa277c-9005-425d-99ec-986b97ee3c52
URL:https://events.org/e/Bob-Dylan/REK4YYPG
BEGIN:VALARM
ACTION:DISPLAY
SUMMARY:Reminder
TRIGGER:-P1D
END:VALARM
END:VEVENT
END:VCALENDAR
