BEGIN:VCALENDAR
METHOD:REQUEST
PRODID:-//events.orgNONSGML ical.net 4.0//EN
VERSION:2.0
BEGIN:VEVENT
DTEND;VALUE=DATE:20260506
DTSTAMP:20260421T095121Z
DTSTART;VALUE=DATE:20260506
LOCATION:Laugh Factory\, Los Angeles
ORGANIZER;CN=:mailto:events@events.org
SEQUENCE:0
SUMMARY:Netflix Is A Joke Presents: Nate Jackson
UID:a7146b14-7e3c-43a8-a151-37502391b66c
URL:https://events.org/e/Netflix-Is-A-Joke-Presents-Nate-Jackson/OLJ54NBX
BEGIN:VALARM
ACTION:DISPLAY
SUMMARY:Reminder
TRIGGER:-P1D
END:VALARM
END:VEVENT
END:VCALENDAR
