BEGIN:VCALENDAR
METHOD:REQUEST
PRODID:-//events.orgNONSGML ical.net 4.0//EN
VERSION:2.0
BEGIN:VEVENT
DTEND;VALUE=DATE:20260710
DTSTAMP:20260419T142321Z
DTSTART;VALUE=DATE:20260710
LOCATION:The National Theatre\, Washington
ORGANIZER;CN=:mailto:events@events.org
SEQUENCE:0
SUMMARY:Beetlejuice (Touring)
UID:e347cc8d-51f6-4406-896b-6c68721d2c9c
URL:https://events.org/e/Beetlejuice-Touring/I25UXQ3S
BEGIN:VALARM
ACTION:DISPLAY
SUMMARY:Reminder
TRIGGER:-P1D
END:VALARM
END:VEVENT
END:VCALENDAR
