BEGIN:VCALENDAR
METHOD:REQUEST
PRODID:-//events.orgNONSGML ical.net 4.0//EN
VERSION:2.0
BEGIN:VEVENT
DTEND;VALUE=DATE:20260619
DTSTAMP:20260421T183758Z
DTSTART;VALUE=DATE:20260619
LOCATION:Summit Music Hall\, Denver
ORGANIZER;CN=:mailto:events@events.org
SEQUENCE:0
SUMMARY:Rx Bandits - And The Battle Begun 20th Anniversary Tour
UID:160f599c-9f9c-42f7-89f1-ee60183b5824
URL:https://events.org/e/Rx-Bandits---And-The-Battle-Begun-20th-Annive/8Q8
 7RTAI
BEGIN:VALARM
ACTION:DISPLAY
SUMMARY:Reminder
TRIGGER:-P1D
END:VALARM
END:VEVENT
END:VCALENDAR
