BEGIN:VCALENDAR
METHOD:REQUEST
PRODID:-//events.orgNONSGML ical.net 4.0//EN
VERSION:2.0
BEGIN:VEVENT
DTEND;VALUE=DATE:20260621
DTSTAMP:20260421T104147Z
DTSTART;VALUE=DATE:20260621
LOCATION:Miller Theater-PA\, Philadelphia
ORGANIZER;CN=:mailto:events@events.org
SEQUENCE:0
SUMMARY:Bluey's Big Play - The Stage Show
UID:b6f75310-221f-4c06-8ca1-c0eefa88abb4
URL:https://events.org/e/Blueys-Big-Play---The-Stage-Show/Y9MWYSQM
BEGIN:VALARM
ACTION:DISPLAY
SUMMARY:Reminder
TRIGGER:-P1D
END:VALARM
END:VEVENT
END:VCALENDAR
