BEGIN:VCALENDAR
METHOD:REQUEST
PRODID:-//events.orgNONSGML ical.net 4.0//EN
VERSION:2.0
BEGIN:VEVENT
DTEND;VALUE=DATE:20260620
DTSTAMP:20260421T082457Z
DTSTART;VALUE=DATE:20260620
LOCATION:Taproot Theatre\, Seattle
ORGANIZER;CN=:mailto:events@events.org
SEQUENCE:0
SUMMARY:Barefoot in the Park
UID:b5b0c0c6-f711-493f-bfe4-91e62f5870ce
URL:https://events.org/e/Barefoot-in-the-Park/QSJELJ35
BEGIN:VALARM
ACTION:DISPLAY
SUMMARY:Reminder
TRIGGER:-P1D
END:VALARM
END:VEVENT
END:VCALENDAR
