BEGIN:VCALENDAR
METHOD:REQUEST
PRODID:-//events.orgNONSGML ical.net 4.0//EN
VERSION:2.0
BEGIN:VEVENT
DTEND;VALUE=DATE:20260520
DTSTAMP:20260421T094619Z
DTSTART;VALUE=DATE:20260520
LOCATION:Orpheum Theatre-San Francisco\, San Francisco
ORGANIZER;CN=:mailto:events@events.org
SEQUENCE:0
SUMMARY:Hell's Kitchen (Touring)
UID:dccc0454-249b-40ce-bc4c-3246c068b009
URL:https://events.org/e/Hells-Kitchen-Touring/FP9HFADV
BEGIN:VALARM
ACTION:DISPLAY
SUMMARY:Reminder
TRIGGER:-P1D
END:VALARM
END:VEVENT
END:VCALENDAR
