BEGIN:VCALENDAR
METHOD:REQUEST
PRODID:-//events.orgNONSGML ical.net 4.0//EN
VERSION:2.0
BEGIN:VEVENT
DTEND;VALUE=DATE:20260717
DTSTAMP:20260421T082207Z
DTSTART;VALUE=DATE:20260717
LOCATION:The Rebel Lounge\, Phoenix
ORGANIZER;CN=:mailto:events@events.org
SEQUENCE:0
SUMMARY:James McMurtry and the Martial Law Review
UID:d91dba47-7378-4e86-832c-2ab25b45c7d3
URL:https://events.org/e/James-McMurtry-and-the-Martial-Law-Review/MKNKNTHH
BEGIN:VALARM
ACTION:DISPLAY
SUMMARY:Reminder
TRIGGER:-P1D
END:VALARM
END:VEVENT
END:VCALENDAR
