BEGIN:VCALENDAR
METHOD:REQUEST
PRODID:-//events.orgNONSGML ical.net 4.0//EN
VERSION:2.0
BEGIN:VEVENT
DTEND;VALUE=DATE:20260528
DTSTAMP:20260421T094818Z
DTSTART;VALUE=DATE:20260528
LOCATION:El Corazon\, Seattle
ORGANIZER;CN=:mailto:events@events.org
SEQUENCE:0
SUMMARY:Curren$y
UID:31365ba4-b5d3-4662-99fe-a89ac9967510
URL:https://events.org/e/Curreny/OTMNJSN5
BEGIN:VALARM
ACTION:DISPLAY
SUMMARY:Reminder
TRIGGER:-P1D
END:VALARM
END:VEVENT
END:VCALENDAR
