BEGIN:VCALENDAR
METHOD:REQUEST
PRODID:-//events.orgNONSGML ical.net 4.0//EN
VERSION:2.0
BEGIN:VEVENT
DTEND;VALUE=DATE:20260617
DTSTAMP:20260424T080505Z
DTSTART;VALUE=DATE:20260617
LOCATION:Underground Arts\, Philadelphia
ORGANIZER;CN=:mailto:events@events.org
SEQUENCE:0
SUMMARY:PawPaw Rod (21+ Event)
UID:b57275d3-5de2-4711-b731-04870dc43e19
URL:https://events.org/e/PawPaw-Rod-21-Event/PBRXWSVQ
BEGIN:VALARM
ACTION:DISPLAY
SUMMARY:Reminder
TRIGGER:-P1D
END:VALARM
END:VEVENT
END:VCALENDAR
