BEGIN:VCALENDAR
METHOD:REQUEST
PRODID:-//events.orgNONSGML ical.net 4.0//EN
VERSION:2.0
BEGIN:VEVENT
DTEND;VALUE=DATE:20260920
DTSTAMP:20260419T142915Z
DTSTART;VALUE=DATE:20260920
LOCATION:Hard Rock Stadium\, Miami
ORGANIZER;CN=:mailto:events@events.org
SEQUENCE:0
SUMMARY:Bruno Mars - The Romantic Tour
UID:9bb1dd5f-c48c-46a1-824c-680576300b09
URL:https://events.org/e/Bruno-Mars---The-Romantic-Tour/3BL5BPTC
BEGIN:VALARM
ACTION:DISPLAY
SUMMARY:Reminder
TRIGGER:-P1D
END:VALARM
END:VEVENT
END:VCALENDAR
