BEGIN:VCALENDAR
METHOD:REQUEST
PRODID:-//events.orgNONSGML ical.net 4.0//EN
VERSION:2.0
BEGIN:VEVENT
DTEND;VALUE=DATE:20260621
DTSTAMP:20260421T130629Z
DTSTART;VALUE=DATE:20260621
LOCATION:The Rady Shell at Jacobs Park\, San Diego
ORGANIZER;CN=:mailto:events@events.org
SEQUENCE:0
SUMMARY:Bob Dylan
UID:e9be41a6-a7cd-4162-8e65-5abb5f2a96bf
URL:https://events.org/e/Bob-Dylan/SWEQI476
BEGIN:VALARM
ACTION:DISPLAY
SUMMARY:Reminder
TRIGGER:-P1D
END:VALARM
END:VEVENT
END:VCALENDAR
