BEGIN:VCALENDAR
METHOD:REQUEST
PRODID:-//events.orgNONSGML ical.net 4.0//EN
VERSION:2.0
BEGIN:VEVENT
DTEND;VALUE=DATE:20260709
DTSTAMP:20260423T133545Z
DTSTART;VALUE=DATE:20260709
LOCATION:Guthrie Theater - McGuire Proscenium Stage\, Minneapolis
ORGANIZER;CN=:mailto:events@events.org
SEQUENCE:0
SUMMARY:Come from Away
UID:f2092153-b4c1-4243-b4bd-282d0a4536b7
URL:https://events.org/e/Come-from-Away/NDJI2VNK
BEGIN:VALARM
ACTION:DISPLAY
SUMMARY:Reminder
TRIGGER:-P1D
END:VALARM
END:VEVENT
END:VCALENDAR
