BEGIN:VCALENDAR
METHOD:REQUEST
PRODID:-//events.orgNONSGML ical.net 4.0//EN
VERSION:2.0
BEGIN:VEVENT
DTEND;VALUE=DATE:20260521
DTSTAMP:20260422T091150Z
DTSTART;VALUE=DATE:20260521
LOCATION:Echoplex\, Los Angeles
ORGANIZER;CN=:mailto:events@events.org
SEQUENCE:0
SUMMARY:Gatecreeper
UID:5480a306-8aae-4394-b04e-c0410df2b5ea
URL:https://events.org/e/Gatecreeper/DF237237
BEGIN:VALARM
ACTION:DISPLAY
SUMMARY:Reminder
TRIGGER:-P1D
END:VALARM
END:VEVENT
END:VCALENDAR
