BEGIN:VCALENDAR
METHOD:REQUEST
PRODID:-//events.orgNONSGML ical.net 4.0//EN
VERSION:2.0
BEGIN:VEVENT
DTEND;VALUE=DATE:20260613
DTSTAMP:20260419T142950Z
DTSTART;VALUE=DATE:20260613
LOCATION:Marian Anderson Hall - Kimmel Center\, Philadelphia
ORGANIZER;CN=:mailto:events@events.org
SEQUENCE:0
SUMMARY:TED Democracy Philadelphia
UID:2288f72f-2af2-4ff4-8c40-39b0a9495a60
URL:https://events.org/e/TED-Democracy-Philadelphia/8S7OIV6J
BEGIN:VALARM
ACTION:DISPLAY
SUMMARY:Reminder
TRIGGER:-P1D
END:VALARM
END:VEVENT
END:VCALENDAR
