BEGIN:VCALENDAR
METHOD:REQUEST
PRODID:-//events.orgNONSGML ical.net 4.0//EN
VERSION:2.0
BEGIN:VEVENT
DTEND;VALUE=DATE:20260426
DTSTAMP:20260424T080745Z
DTSTART;VALUE=DATE:20260426
LOCATION:Bowery Ballroom\, New York
ORGANIZER;CN=:mailto:events@events.org
SEQUENCE:0
SUMMARY:Isaia Huron - Mister Lovebomb's Tiny Little Tour
UID:1cd0996e-b1fc-491c-aac2-62ac05b6d13d
URL:https://events.org/e/Isaia-Huron---Mister-Lovebombs-Tiny-Little-Tour/G
 Y6FVLEP
BEGIN:VALARM
ACTION:DISPLAY
SUMMARY:Reminder
TRIGGER:-P1D
END:VALARM
END:VEVENT
END:VCALENDAR
