BEGIN:VCALENDAR
METHOD:REQUEST
PRODID:-//events.orgNONSGML ical.net 4.0//EN
VERSION:2.0
BEGIN:VEVENT
DTEND;VALUE=DATE:20260430
DTSTAMP:20260421T144421Z
DTSTART;VALUE=DATE:20260430
LOCATION:Just the Funny\, Miami
ORGANIZER;CN=:mailto:events@events.org
SEQUENCE:0
SUMMARY:¡Improvisa! Clases de Teatro Improvisado en Español (Improv Class 
 in Spanish)
UID:2ab3db80-52ce-4a17-82dc-cb42e871b266
URL:https://events.org/e/Improvisa-Clases-de-Teatro-Improvisado-en-Esp/35T
 G2UU7
BEGIN:VALARM
ACTION:DISPLAY
SUMMARY:Reminder
TRIGGER:-P1D
END:VALARM
END:VEVENT
END:VCALENDAR
