BEGIN:VCALENDAR
METHOD:REQUEST
PRODID:-//events.orgNONSGML ical.net 4.0//EN
VERSION:2.0
BEGIN:VEVENT
DTEND;VALUE=DATE:20260517
DTSTAMP:20260421T082425Z
DTSTART;VALUE=DATE:20260517
LOCATION:Boch Center Wang Theatre\, Boston
ORGANIZER;CN=:mailto:events@events.org
SEQUENCE:0
SUMMARY:The Bald and the Beautiful LIVE: Very Bald\, Very Beautiful
UID:c5956f30-d6f9-47f2-a80c-c380faf3a9f3
URL:https://events.org/e/The-Bald-and-the-Beautiful-LIVE-Very-Bald-Ver/JYI
 THHRA
BEGIN:VALARM
ACTION:DISPLAY
SUMMARY:Reminder
TRIGGER:-P1D
END:VALARM
END:VEVENT
END:VCALENDAR
