BEGIN:VCALENDAR
METHOD:REQUEST
PRODID:-//events.orgNONSGML ical.net 4.0//EN
VERSION:2.0
BEGIN:VEVENT
DTEND;VALUE=DATE:20260510
DTSTAMP:20260423T133838Z
DTSTART;VALUE=DATE:20260510
LOCATION:Paramount Theatre\, Denver
ORGANIZER;CN=:mailto:events@events.org
SEQUENCE:0
SUMMARY:Las Alucines
UID:1af4529e-742b-4195-b64a-43c87fd434d5
URL:https://events.org/e/Las-Alucines/PVDS7AX8
BEGIN:VALARM
ACTION:DISPLAY
SUMMARY:Reminder
TRIGGER:-P1D
END:VALARM
END:VEVENT
END:VCALENDAR
