BEGIN:VCALENDAR
METHOD:REQUEST
PRODID:-//events.orgNONSGML ical.net 4.0//EN
VERSION:2.0
BEGIN:VEVENT
DTEND;VALUE=DATE:20260925
DTSTAMP:20260419T214252Z
DTSTART;VALUE=DATE:20260925
LOCATION:House of Blues Dallas \, Dallas
ORGANIZER;CN=:mailto:events@events.org
SEQUENCE:0
SUMMARY:That's Not Me Comedy Tour with Concrete & Jerry Garcia - 18+ Event
UID:54beaa33-b816-4bc4-a887-9c759d9b73e0
URL:https://events.org/e/Thats-Not-Me-Comedy-Tour-with-Concrete-Jerry/NNDT
 X62X
BEGIN:VALARM
ACTION:DISPLAY
SUMMARY:Reminder
TRIGGER:-P1D
END:VALARM
END:VEVENT
END:VCALENDAR
