BEGIN:VCALENDAR
METHOD:REQUEST
PRODID:-//events.orgNONSGML ical.net 4.0//EN
VERSION:2.0
BEGIN:VEVENT
DTEND;VALUE=DATE:20260527
DTSTAMP:20260425T231817Z
DTSTART;VALUE=DATE:20260527
LOCATION:Academy of Music - PA\, Philadelphia
ORGANIZER;CN=:mailto:events@events.org
SEQUENCE:0
SUMMARY:The Outsiders (Touring)
UID:e23ca957-4b63-453a-9515-1b9c5d99e477
URL:https://events.org/e/The-Outsiders-Touring/FULS3WYU
BEGIN:VALARM
ACTION:DISPLAY
SUMMARY:Reminder
TRIGGER:-P1D
END:VALARM
END:VEVENT
END:VCALENDAR
