BEGIN:VCALENDAR
METHOD:REQUEST
PRODID:-//events.orgNONSGML ical.net 4.0//EN
VERSION:2.0
BEGIN:VEVENT
DTEND;VALUE=DATE:20260516
DTSTAMP:20260423T133211Z
DTSTART;VALUE=DATE:20260516
LOCATION:Marian Anderson Hall - Kimmel Center\, Philadelphia
ORGANIZER;CN=:mailto:events@events.org
SEQUENCE:0
SUMMARY:Philadelphia Orchestra Mahler and Sorey
UID:248a21f7-ae46-44f2-87f6-b46b29bcd1be
URL:https://events.org/e/Philadelphia-Orchestra-Mahler-and-Sorey/MG74LEKA
BEGIN:VALARM
ACTION:DISPLAY
SUMMARY:Reminder
TRIGGER:-P1D
END:VALARM
END:VEVENT
END:VCALENDAR
