BEGIN:VCALENDAR
METHOD:REQUEST
PRODID:-//events.orgNONSGML ical.net 4.0//EN
VERSION:2.0
BEGIN:VEVENT
DTEND;VALUE=DATE:20260505
DTSTAMP:20260419T183611Z
DTSTART;VALUE=DATE:20260505
LOCATION:Los Angeles Memorial Coliseum\, Los Angeles
ORGANIZER;CN=:mailto:events@events.org
SEQUENCE:0
SUMMARY:Los Angeles Coliseum Historic Tours
UID:720bfc6a-878e-43e2-b750-b693e33d0f9b
URL:https://events.org/e/Los-Angeles-Coliseum-Historic-Tours/OGJ4AYSX
BEGIN:VALARM
ACTION:DISPLAY
SUMMARY:Reminder
TRIGGER:-P1D
END:VALARM
END:VEVENT
END:VCALENDAR
