BEGIN:VCALENDAR
METHOD:REQUEST
PRODID:-//events.orgNONSGML ical.net 4.0//EN
VERSION:2.0
BEGIN:VEVENT
DTEND;VALUE=DATE:20260620
DTSTAMP:20260421T132354Z
DTSTART;VALUE=DATE:20260620
LOCATION:SOMA - Mainstage\, San Diego
ORGANIZER;CN=:mailto:events@events.org
SEQUENCE:0
SUMMARY:Freddie Gibbs : The Last Rabbit Tour – North America
UID:2377033e-cf65-46a3-97b8-899b8d32732e
URL:https://events.org/e/Freddie-Gibbs-The-Last-Rabbit-Tour---North-Americ
 a/TRAROBEM
BEGIN:VALARM
ACTION:DISPLAY
SUMMARY:Reminder
TRIGGER:-P1D
END:VALARM
END:VEVENT
END:VCALENDAR
