BEGIN:VCALENDAR
METHOD:REQUEST
PRODID:-//events.orgNONSGML ical.net 4.0//EN
VERSION:2.0
BEGIN:VEVENT
DTEND;VALUE=DATE:20260424
DTSTAMP:20260422T090943Z
DTSTART;VALUE=DATE:20260424
LOCATION:Bowery Palace\, New York
ORGANIZER;CN=:mailto:events@events.org
SEQUENCE:0
SUMMARY:Jesse Malin's Silver Manhattan
UID:fe509f93-92ba-47b1-b0f9-cb09d392fb74
URL:https://events.org/e/Jesse-Malins-Silver-Manhattan/WH2GIW2D
BEGIN:VALARM
ACTION:DISPLAY
SUMMARY:Reminder
TRIGGER:-P1D
END:VALARM
END:VEVENT
END:VCALENDAR
