BEGIN:VCALENDAR
METHOD:REQUEST
PRODID:-//events.orgNONSGML ical.net 4.0//EN
VERSION:2.0
BEGIN:VEVENT
DTEND;VALUE=DATE:20260822
DTSTAMP:20260423T133217Z
DTSTART;VALUE=DATE:20260822
LOCATION:Nu Stadium\, Miami
ORGANIZER;CN=:mailto:events@events.org
SEQUENCE:0
SUMMARY:Inter Miami CF vs Toronto FC
UID:b99df71e-1ae6-49c4-aa73-0a521ef72214
URL:https://events.org/e/Inter-Miami-CF-vs-Toronto-FC/EXBCNK8R
BEGIN:VALARM
ACTION:DISPLAY
SUMMARY:Reminder
TRIGGER:-P1D
END:VALARM
END:VEVENT
END:VCALENDAR
