BEGIN:VCALENDAR
METHOD:REQUEST
PRODID:-//events.orgNONSGML ical.net 4.0//EN
VERSION:2.0
BEGIN:VEVENT
DTEND;VALUE=DATE:20260626
DTSTAMP:20260421T164134Z
DTSTART;VALUE=DATE:20260626
LOCATION:Humphreys Concerts By the Bay\, San Diego
ORGANIZER;CN=:mailto:events@events.org
SEQUENCE:0
SUMMARY:The Fab Four
UID:d12b2da4-d18e-4022-a2c9-702ffa554a14
URL:https://events.org/e/The-Fab-Four/SVX2KFDI
BEGIN:VALARM
ACTION:DISPLAY
SUMMARY:Reminder
TRIGGER:-P1D
END:VALARM
END:VEVENT
END:VCALENDAR
