BEGIN:VCALENDAR
METHOD:REQUEST
PRODID:-//events.orgNONSGML ical.net 4.0//EN
VERSION:2.0
BEGIN:VEVENT
DTEND;VALUE=DATE:20260824
DTSTAMP:20260421T082027Z
DTSTART;VALUE=DATE:20260824
LOCATION:Target Field\, Minneapolis
ORGANIZER;CN=:mailto:events@events.org
SEQUENCE:0
SUMMARY:My Chemical Romance The Black Parade 2026
UID:fa88d6b1-b2a9-4d16-9dfa-57cca0ca10c3
URL:https://events.org/e/My-Chemical-Romance-The-Black-Parade-2026/58PHQ8OH
BEGIN:VALARM
ACTION:DISPLAY
SUMMARY:Reminder
TRIGGER:-P1D
END:VALARM
END:VEVENT
END:VCALENDAR
