BEGIN:VCALENDAR
METHOD:REQUEST
PRODID:-//events.orgNONSGML ical.net 4.0//EN
VERSION:2.0
BEGIN:VEVENT
DTEND;VALUE=DATE:20260618
DTSTAMP:20260421T103639Z
DTSTART;VALUE=DATE:20260618
LOCATION:Trump Kennedy Center - Opera House\, Washington
ORGANIZER;CN=:mailto:events@events.org
SEQUENCE:0
SUMMARY:Moulin Rouge (Touring)
UID:110f1922-0655-470f-ae95-6ed5e53dda90
URL:https://events.org/e/Moulin-Rouge-Touring/FU67YIG8
BEGIN:VALARM
ACTION:DISPLAY
SUMMARY:Reminder
TRIGGER:-P1D
END:VALARM
END:VEVENT
END:VCALENDAR
