BEGIN:VCALENDAR
METHOD:REQUEST
PRODID:-//events.orgNONSGML ical.net 4.0//EN
VERSION:2.0
BEGIN:VEVENT
DTEND;VALUE=DATE:20260521
DTSTAMP:20260422T091308Z
DTSTART;VALUE=DATE:20260521
LOCATION:Teragram Ballroom\, Los Angeles
ORGANIZER;CN=:mailto:events@events.org
SEQUENCE:0
SUMMARY:Pretty But Wicked presents: Elias Rønnenfelt x Evanora Unlimited
UID:83e47a2d-3f57-4e06-87ba-3192c51a7a53
URL:https://events.org/e/Pretty-But-Wicked-presents-Elias-Ronnenfelt-x/38K
 RU5AW
BEGIN:VALARM
ACTION:DISPLAY
SUMMARY:Reminder
TRIGGER:-P1D
END:VALARM
END:VEVENT
END:VCALENDAR
