BEGIN:VCALENDAR
METHOD:REQUEST
PRODID:-//events.orgNONSGML ical.net 4.0//EN
VERSION:2.0
BEGIN:VEVENT
DTEND;VALUE=DATE:20260514
DTSTAMP:20260424T082526Z
DTSTART;VALUE=DATE:20260514
LOCATION:Three Top Lounge\, Chicago
ORGANIZER;CN=:mailto:events@events.org
SEQUENCE:0
SUMMARY:Honey with DJ CashEra
UID:b94202d2-2377-4fc7-875d-c1fe51dd9705
URL:https://events.org/e/Honey-with-DJ-CashEra/IJOP2DS6
BEGIN:VALARM
ACTION:DISPLAY
SUMMARY:Reminder
TRIGGER:-P1D
END:VALARM
END:VEVENT
END:VCALENDAR
