BEGIN:VCALENDAR
METHOD:REQUEST
PRODID:-//events.orgNONSGML ical.net 4.0//EN
VERSION:2.0
BEGIN:VEVENT
DTEND;VALUE=DATE:20260423
DTSTAMP:20260422T090453Z
DTSTART;VALUE=DATE:20260423
LOCATION:Town Hall\, New York
ORGANIZER;CN=:mailto:events@events.org
SEQUENCE:0
SUMMARY:Rob Anderson: Are You Afraid Of The '90s?
UID:5894056d-30b0-4f0b-86da-982a39fda3df
URL:https://events.org/e/Rob-Anderson-Are-You-Afraid-Of-The-90s/N756POC7
BEGIN:VALARM
ACTION:DISPLAY
SUMMARY:Reminder
TRIGGER:-P1D
END:VALARM
END:VEVENT
END:VCALENDAR
