BEGIN:VCALENDAR
METHOD:REQUEST
PRODID:-//events.orgNONSGML ical.net 4.0//EN
VERSION:2.0
BEGIN:VEVENT
DTEND;VALUE=DATE:20260716
DTSTAMP:20260421T114703Z
DTSTART;VALUE=DATE:20260716
LOCATION:Fillmore Auditorium (Denver)\, Denver
ORGANIZER;CN=:mailto:events@events.org
SEQUENCE:0
SUMMARY:Lee Brice: Live in Concert
UID:f4235c6a-7d6f-4048-a922-95ebe9fd8601
URL:https://events.org/e/Lee-Brice-Live-in-Concert/4HAPBM6E
BEGIN:VALARM
ACTION:DISPLAY
SUMMARY:Reminder
TRIGGER:-P1D
END:VALARM
END:VEVENT
END:VCALENDAR
