BEGIN:VCALENDAR
METHOD:REQUEST
PRODID:-//events.orgNONSGML ical.net 4.0//EN
VERSION:2.0
BEGIN:VEVENT
DTEND;VALUE=DATE:20260516
DTSTAMP:20260422T090045Z
DTSTART;VALUE=DATE:20260516
LOCATION:ChiTown Movies\, Chicago
ORGANIZER;CN=:mailto:events@events.org
SEQUENCE:0
SUMMARY:ChiTown Drive-In Presents - Mean Girls (the orginal!)
UID:d929dac8-f20b-4631-9185-d0f5d33781ab
URL:https://events.org/e/ChiTown-Drive-In-Presents---Mean-Girls-the-orgina
 l/HO57KQOX
BEGIN:VALARM
ACTION:DISPLAY
SUMMARY:Reminder
TRIGGER:-P1D
END:VALARM
END:VEVENT
END:VCALENDAR
