BEGIN:VCALENDAR
METHOD:REQUEST
PRODID:-//events.orgNONSGML ical.net 4.0//EN
VERSION:2.0
BEGIN:VEVENT
DTEND;VALUE=DATE:20260426
DTSTAMP:20260422T084501Z
DTSTART;VALUE=DATE:20260426
LOCATION:Audible's Minetta Lane Theatre\, New York
ORGANIZER;CN=:mailto:events@events.org
SEQUENCE:0
SUMMARY:What Happened Was
UID:9f855649-c20f-4e88-af7b-86886c1ae692
URL:https://events.org/e/What-Happened-Was/577RXK84
BEGIN:VALARM
ACTION:DISPLAY
SUMMARY:Reminder
TRIGGER:-P1D
END:VALARM
END:VEVENT
END:VCALENDAR
