BEGIN:VCALENDAR
METHOD:REQUEST
PRODID:-//events.orgNONSGML ical.net 4.0//EN
VERSION:2.0
BEGIN:VEVENT
DTEND;VALUE=DATE:20260425
DTSTAMP:20260422T091637Z
DTSTART;VALUE=DATE:20260425
LOCATION:Cricket's Candy Creations\, New York
ORGANIZER;CN=:mailto:events@events.org
SEQUENCE:0
SUMMARY:Candy Crafting at Cricket's Candy Creations
UID:83579be9-201c-4b34-aa95-bdbdb5c71d37
URL:https://events.org/e/Candy-Crafting-at-Crickets-Candy-Creations/IOBTOJ
 VL
BEGIN:VALARM
ACTION:DISPLAY
SUMMARY:Reminder
TRIGGER:-P1D
END:VALARM
END:VEVENT
END:VCALENDAR
